BEGIN:VCALENDAR
VERSION:2.0
PRODID:-//wp-events-plugin.com//7.2.3.1//EN
BEGIN:VEVENT
UID:72@imagelab.sk
DTSTART:20230127T100000Z
DTEND:20230127T113000Z
DTSTAMP:20260425T032838Z
URL:
SUMMARY:ZOOM SNACK – Ako rozpoznať a spracovať manipuláciu
DESCRIPTION:[vc_row][vc_column][vc_single_image image="13657" img_size="ful
 l" alignment="center"][ultimate_spacer height="30"][/vc_column][/vc_row][v
 c_row bg_type="bg_color" bg_color_value="#ffffff" text_color="#ffffff"][vc
 _column][ultimate_spacer height="30"][vc_column_text css=".vc_custom_16696
 22260366{background-color: #ffffff !important\;}"]\nKEDY: 27.01.2023 od 10
 :00 do 11:30​\nKDE: Platforma ZOOM\nÚČASŤ JE BEZPLATNÁ\n[/vc_column_
 text][/vc_column][/vc_row][vc_row][vc_column][ultimate_spacer height="30"]
 [vc_column_text]\nAko rozpoznať a spracovať manipuláciu\nViete vlastne\
 , čo je to manipulácia? Dokážete ju rozpoznať? Aký z nej máte poci
 t? Na našom stretnutí si povieme\, ako manipuláciu nielen rozpoznať\, 
 ale aj ako na ňu reagovať. Ukážeme vám\, na čo sa zamerať\, aby ste
  mohli dať manipulátorovi najavo\, že máte veci pod kontrolou.[/vc_col
 umn_text][ultimate_spacer height="10"][/vc_column][/vc_row][vc_row][vc_col
 umn][vc_column_text]\nTémou vás prevedie:\n[/vc_column_text][/vc_column]
 [/vc_row][vc_row][vc_column width="1/4"][vc_single_image image="13518"][/v
 c_column][vc_column width="3/4"][vc_column_text]\nVít Špaňhel\, M. A.\n
 Profesionál v oblasti komunikácie\, lektor a konzultant\n\nŠtudoval kom
 unikáciu\, PR a masmédia na La Salle University vo Philadelphii.\n\nDne
 s sa ako expert venuje skupinám aj jednotlivcom v oblasti komunikácie\,
  prezentovania a vyjednávania.[/vc_column_text][/vc_column][/vc_row][vc_
 row][vc_column][ultimate_spacer height="60"][vc_column_text]Prístupové 
 údaje budú zaslané 2-3 dni pred termínom ZOOM SNACKu.\n\nWorkshop je u
 rčený pre HR riaditeľov\, manažérov a špecialistov vzdelávania\, HR
  business partnerov.\n\nNie je určený pre poradenské\, vzdelávacie spo
 ločnosti a lektorov.[/vc_column_text][ultimate_spacer height="60"][/vc_c
 olumn][/vc_row][vc_row][vc_column][vc_btn title="Chcem sa prihlásiť" col
 or="info" align="center" link="url:https%3A%2F%2Fforms.gle%2FCFeu3B4RLwJ9x
 5gg6||target:%20_blank|"][/vc_column][/vc_row]
LOCATION:Image Lab SK\, s.r.o.\, Jarošova 2961/1\, Bratislava\, 831 03\, S
 lovensko
X-APPLE-STRUCTURED-LOCATION;VALUE=URI;X-ADDRESS=Jarošova 2961/1\, Bratisla
 va\, 831 03\, Slovensko;X-APPLE-RADIUS=100;X-TITLE=Image Lab SK\, s.r.o.:g
 eo:0,0
END:VEVENT
BEGIN:VEVENT
UID:95@imagelab.sk
DTSTART:20231103T100000Z
DTEND:20231103T113000Z
DTSTAMP:20231011T093033Z
URL:https://imagelab.sk/events/zoom-snack-presentation-online/
SUMMARY:ZOOM SNACK – Presentation Online
DESCRIPTION:[vc_row][vc_column][vc_single_image image="14070" img_size="ful
 l" alignment="center"][ultimate_spacer height="30"][/vc_column][/vc_row][v
 c_row bg_type="bg_color" bg_color_value="#ffffff" text_color="#ffffff"][vc
 _column][ultimate_spacer height="30"][vc_column_text css=".vc_custom_16969
 41761370{background-color: #ffffff !important\;}"]\nWHEN: 03.11.2023 od 10
 :00 do 11:30​\nWHERE: ZOOM\n[/vc_column_text][/vc_column][/vc_row][vc_ro
 w][vc_column][ultimate_spacer height="30"][vc_column_text]Presentation in 
 on online environment has to be different. I found out how. it needs a spe
 cific understanding and online presentation also needs a special treatment
 . believe it or not it’s not about technology but it’s more about you 
 as a human and how you approach it. come and join us in our Zoom snack to 
 learn more about how to make the perfect presentation online.\n\nWe will t
 alk about:\n\n 	how to prepare\n 	where you should stream and what your en
 viromnt should look like\n 	do you need slides?\n 	how to deliver with pro
 per energy\n\n[/vc_column_text][ultimate_spacer height="10"][/vc_column][/
 vc_row][vc_row][vc_column][vc_column_text]\nLooking forward to seeing you 
 all!\n[/vc_column_text][/vc_column][/vc_row][vc_row][vc_column width="1/4"
 ][vc_single_image image="13518"][/vc_column][vc_column width="3/4"][vc_col
 umn_text]\nVít Špaňhel\, M. A.\n[/vc_column_text][/vc_column][/vc_row][
 vc_row][vc_column][ultimate_spacer height="60"][vc_column_text]Access deta
 ils will be sent after registration is complete.\n\nThe workshop is intend
 ed for HR directors\, managers and education specialists\, HR business par
 tners.\n\nIt is not intended for consulting and educational companies and 
 lecturers.[/vc_column_text][ultimate_spacer height="60"][/vc_column][/vc_r
 ow][vc_row][vc_column][vc_btn title="Sign up" color="info" align="center" 
 link="url:https%3A%2F%2Fdocs.google.com%2Fforms%2Fd%2Fe%2F1FAIpQLSeNyMsrMT
 VQMLXrKriGwJrQOy3b6AGH2rsL7VtKZa7Bt8IoCw%2Fviewform|target:_blank"][/vc_co
 lumn][/vc_row]
ATTACH;FMTTYPE=image/jpeg:https://imagelab.sk/wp-content/uploads/2023/10/P
 rezentacni-dovednosti-773x520-1.png
LOCATION:Image Lab SK\, s.r.o.\, Jarošova 2961/1\, Bratislava\, 831 03\, S
 lovensko
X-APPLE-STRUCTURED-LOCATION;VALUE=URI;X-ADDRESS=Jarošova 2961/1\, Bratisla
 va\, 831 03\, Slovensko;X-APPLE-RADIUS=100;X-TITLE=Image Lab SK\, s.r.o.:g
 eo:0,0
END:VEVENT
BEGIN:VEVENT
UID:96@imagelab.sk
DTSTART:20231110T100000Z
DTEND:20231110T113000Z
DTSTAMP:20231011T093134Z
URL:https://imagelab.sk/events/zoom-snack-cx-therapy-2/
SUMMARY:ZOOM SNACK – CX Therapy
DESCRIPTION:[vc_row][vc_column][vc_single_image image="13446" img_size="ful
 l" alignment="center"][ultimate_spacer height="30"][/vc_column][/vc_row][v
 c_row bg_type="bg_color" bg_color_value="#ffffff" text_color="#ffffff"][vc
 _column][ultimate_spacer height="30"][vc_column_text css=".vc_custom_16970
 13053192{background-color: #ffffff !important\;}"]\nKEDY: 10.11.2023 od 10
 :00 do 11:30​\nKDE: Platforma ZOOM\nÚČASŤ JE BEZPLATNÁ\n[/vc_column_
 text][/vc_column][/vc_row][vc_row][vc_column][ultimate_spacer height="30"]
 [vc_column_text]Ako vybudovať zákaznícku skúsenosť.\n\nO úspechu Va
 šej firmy rozhodujú u Vašich zákazníkov Vaši ľudia.\n\nPráve zames
 tnanci musia byť tými prvými\, ktorí cítia\, že to\, čo robia\, má
  zmysel.\n\nPredstavíme Vám najnovšie a najefektívnejšie postupy\, kt
 oré vo výsledku prinášajú výrazné navýšenie obchodného úspechu.
 \nPodelíme sa s Vami o naše skúsenosti z rozvoja v rôznych typoch busi
 nessu.\n\nAké témy budeme otvárať?\n✔ Ako efektívne ovplyvniť kval
 itu Customer Experience a dosahovať skvelé výsledky\n✔ Neuropsycholó
 gia v CX praxi - ako motivovať klienta k vytvoreniu vzťahu\n✔ Investí
 cia s návratnosťou v sekundách\n\n[/vc_column_text][ultimate_spacer hei
 ght="10"][/vc_column][/vc_row][vc_row][vc_column][vc_column_text]Témou v
 ás prevedie:[/vc_column_text][/vc_column][/vc_row][vc_row][vc_column widt
 h="1/4"][vc_single_image image="10407"][/vc_column][vc_column width="3/4"]
 [vc_column_text]\nMUDr. Martin Kalenda\, MBA\nKonateľ\, riaditeľ\, senio
 r konzultant[/vc_column_text][/vc_column][/vc_row][vc_row][vc_column][vc_b
 tn title="Chcem sa prihlásiť" color="info" align="center" link="url:http
 s%3A%2F%2Fforms.gle%2FXE6Lx3fZzGCpdjnj8|target:_blank"][/vc_column][/vc_ro
 w]
ATTACH;FMTTYPE=image/jpeg:https://imagelab.sk/wp-content/uploads/2021/04/C
 X2.jpg
LOCATION:Image Lab SK\, s.r.o.\, Jarošova 2961/1\, Bratislava\, 831 03\, S
 lovensko
X-APPLE-STRUCTURED-LOCATION;VALUE=URI;X-ADDRESS=Jarošova 2961/1\, Bratisla
 va\, 831 03\, Slovensko;X-APPLE-RADIUS=100;X-TITLE=Image Lab SK\, s.r.o.:g
 eo:0,0
END:VEVENT
BEGIN:VEVENT
UID:93@imagelab.sk
DTSTART:20231208T100000Z
DTEND:20231208T113000Z
DTSTAMP:20231027T172129Z
URL:https://imagelab.sk/events/pozitivne-myslenie/
SUMMARY:ZOOM SNACK – Pozitívne myslenie
DESCRIPTION:[vc_row][vc_column][vc_single_image image="13852" img_size="ful
 l" alignment="center"][ultimate_spacer height="30"][/vc_column][/vc_row][v
 c_row bg_type="bg_color" bg_color_value="#ffffff" text_color="#ffffff"][vc
 _column][ultimate_spacer height="30"][vc_column_text css=".vc_custom_16984
 26510345{background-color: #ffffff !important\;}"]\nKEDY: 8.12.2023 od 10:
 00 do 11:30​\nKDE: Platforma ZOOM\nÚČASŤ JE BEZPLATNÁ\n[/vc_column_t
 ext][/vc_column][/vc_row][vc_row][vc_column][ultimate_spacer height="30"][
 vc_column_text]\nPozitívne myslenie\nJe to vedomý mindset\, je to nastav
 enie mysle\, ktoré máte pod kontrolou. Pozitívne myslenie nie je naše 
 primárne nastavenie\, ale je to spôsob\, ako sa vysporiadať s náročn
 ými rozhodnutiami a môže fungovať aj ako ultimátny time a stress mana
 gement.\n\n 	Nájdite\, čo je pre Vás podstatné\n 	Zistite\, čo Vás v
  živote motivuje\n 	Nestrácajte čas a energiu s vecami\, ktoré nedoká
 žete ovplyvniť\n\n[/vc_column_text][ultimate_spacer height="10"][/vc_col
 umn][/vc_row][vc_row][vc_column][vc_column_text]\nTémou vás prevedie:\n[
 /vc_column_text][/vc_column][/vc_row][vc_row][vc_column width="1/4"][vc_si
 ngle_image image="13518"][/vc_column][vc_column width="3/4"][vc_column_tex
 t]\nVít Špaňhel\, M. A.\nProfesionál v oblasti komunikácie\, lektor a
  konzultant\n\nŠtudoval komunikáciu\, PR a masmédia na La Salle Univer
 sity vo Philadelphii.\n\nDnes sa ako expert venuje skupinám aj jednotlivc
 om v oblasti komunikácie\, prezentovania a vyjednávania.[/vc_column_te
 xt][/vc_column][/vc_row][vc_row][vc_column][ultimate_spacer height="60"][v
 c_column_text]Prístupové údaje budú zaslané 2-3 dni pred termínom ZO
 OM SNACKu.\n\nZúčastniť sa ZOOM SNACKu je možné zadarmo až pre 2 oso
 by z jednej spoločnosti.\n\nWorkshop je určený pre HR riaditeľov\, man
 ažérov a špecialistov vzdelávania\, HR business partnerov.\n\nNie je u
 rčený pre poradenské\, vzdelávacie spoločnosti a lektorov.[/vc_colum
 n_text][ultimate_spacer height="60"][/vc_column][/vc_row][vc_row][vc_colum
 n][vc_btn title="Chcem sa prihlásiť" color="info" align="center" link="u
 rl:https%3A%2F%2Fforms.gle%2FB3hwxjoBckwtjBsg8|target:_blank"][/vc_column]
 [/vc_row]
ATTACH;FMTTYPE=image/jpeg:https://imagelab.sk/wp-content/uploads/2023/09/Z
 S-leto_podzim_2023-773x520.jpg
LOCATION:Image Lab SK\, s.r.o.\, Jarošova 2961/1\, Bratislava\, 831 03\, S
 lovensko
X-APPLE-STRUCTURED-LOCATION;VALUE=URI;X-ADDRESS=Jarošova 2961/1\, Bratisla
 va\, 831 03\, Slovensko;X-APPLE-RADIUS=100;X-TITLE=Image Lab SK\, s.r.o.:g
 eo:0,0
END:VEVENT
BEGIN:VEVENT
UID:89@imagelab.sk
DTSTART:20231215T100000Z
DTEND:20231215T113000Z
DTSTAMP:20231027T172034Z
URL:https://imagelab.sk/events/zoom-snack-leadership-5-1/
SUMMARY:ZOOM SNACK – Leadership 5.1.
DESCRIPTION:[vc_row][vc_column][vc_single_image image="13838" img_size="ful
 l" alignment="center"][ultimate_spacer height="30"][/vc_column][/vc_row][v
 c_row bg_type="bg_color" bg_color_value="#ffffff" text_color="#ffffff"][vc
 _column][ultimate_spacer height="30"][vc_column_text css=".vc_custom_16984
 27053837{background-color: #ffffff !important\;}"]\nKEDY: 15.12.2023 od 10
 :00 do 11:30​\nKDE: Platforma ZOOM\nÚČASŤ JE BEZPLATNÁ\n[/vc_column_
 text][/vc_column][/vc_row][vc_row][vc_column][ultimate_spacer height="30"]
 [vc_column_text]\nLeadership 5.1.\nDoprajte si transformačný zážitok z
  workshopu "Leadership 5.1". Preskúmajte prácu s emóciami\, naučte sa 
 efektívne motivovať a nachádzať zmysel vo svojej práci. Rozviňte svo
 je kritické myslenie\, uplatnite "zdravý sedliacky rozum" a naučte sa n
 adväzovať hlboké vzťahy. Pripojte sa k nám a objavte etický leadersh
 ip ako kľúč k úspešnému vedeniu v 21. storočí.\n\nProgram:\n\n 	3 
 zdroje vytvárania hodnôt - od fyzickej práce po Emotionomics \n 	proce
 s komunikácie a výmeny informácií - prečo je niekedy online forma ned
 ostatočná ... vytváranie reťazca chýb v organizáciách a ako tomu za
 brániť\n 	saturácia slasti - evolučná neuropsychológia motivácie\n 
 	prepojenie "tela a duše" - tu a teraz - ako pozitívne meniť svet\n 	od
 vaha - od rozprávok k manažérskej praxi\n\n[/vc_column_text][ultimate_s
 pacer height="10"][/vc_column][/vc_row][vc_row][vc_column][vc_column_text]
 \nTémou vás prevedie:\n[/vc_column_text][/vc_column][/vc_row][vc_row][vc
 _column width="1/4"][vc_single_image image="13552"][/vc_column][vc_column 
 width="3/4"][vc_column_text]\nMUDr. Martin Kalenda\, MBA\nSenior konzultan
 t\, strategický poradca a kouč[/vc_column_text][/vc_column][/vc_row][vc_
 row][vc_column][ultimate_spacer height="60"][vc_column_text]Prístupové 
 údaje budú zaslané 2-3 dni pred termínom ZOOM SNACKu.\n\nZúčastniť 
 sa ZOOM SNACKu je možné zadarmo až pre 2 osoby z jednej spoločnosti.\n
 \nWorkshop je určený pre HR riaditeľov\, manažérov a špecialistov vz
 delávania\, HR business partnerov.\n\nNie je určený pre poradenské\, v
 zdelávacie spoločnosti a lektorov.[/vc_column_text][ultimate_spacer hei
 ght="60"][/vc_column][/vc_row][vc_row][vc_column][vc_btn title="Chcem sa p
 rihlásiť" color="info" align="center" link="url:https%3A%2F%2Fforms.gle%
 2FB3hwxjoBckwtjBsg8|target:_blank"][/vc_column][/vc_row]
ATTACH;FMTTYPE=image/jpeg:https://imagelab.sk/wp-content/uploads/2023/06/A
 gilita-duben-773x520.jpg
LOCATION:Image Lab SK\, s.r.o.\, Jarošova 2961/1\, Bratislava\, 831 03\, S
 lovensko
X-APPLE-STRUCTURED-LOCATION;VALUE=URI;X-ADDRESS=Jarošova 2961/1\, Bratisla
 va\, 831 03\, Slovensko;X-APPLE-RADIUS=100;X-TITLE=Image Lab SK\, s.r.o.:g
 eo:0,0
END:VEVENT
BEGIN:VEVENT
UID:97@imagelab.sk
DTSTART:20240322T100000Z
DTEND:20240322T113000Z
DTSTAMP:20240318T164929Z
URL:https://imagelab.sk/events/zoom-snack-storytelling/
SUMMARY:ZOOM SNACK – Storytelling ako Future Skills
DESCRIPTION:[vc_row][vc_column][vc_single_image image="16066" img_size="ful
 l" alignment="center"][ultimate_spacer height="30"][/vc_column][/vc_row][v
 c_row bg_type="bg_color" bg_color_value="#ffffff" text_color="#ffffff"][vc
 _column][ultimate_spacer height="30"][vc_column_text css=".vc_custom_17107
 75795934{background-color: #ffffff !important\;}"]\nKEDY: 22.3.2024 od 10:
 00 do 11:30​\nKDE: Platforma ZOOM\nÚČASŤ JE BEZPLATNÁ\n[/vc_column_t
 ext][/vc_column][/vc_row][vc_row][vc_column][ultimate_spacer height="30"][
 vc_column_text]\nStorytelling ako kľúčová zručnosť budúcnosti\nPre
 čo je storytelling tak dôležitý? Je prekvapujúce\, ako v digitálnom 
 veku táto ľudská zručnosť a práca s ňou vytvára až prevratné sch
 opnosti organizácií a jednotlivcov pri riadení zmien\, vytváraní inov
 ácií a spájaní ľudí.\n&nbsp\;\n\nAké sú hlavné témy\, ktoré otv
 oríme?\n\n 	Základy storytellingu\n 	Prvky efektívneho príbehu: postav
 y\, konflikt\, rozuzlenie.\n 	Dôležitosť emocionálneho spojenia a zapo
 jenia poslucháča.\n 	Storytelling vo Vašej praxi\n 	Storytelling ako n
 ástroj na riadenie zmien (15 minút)\n 	Storytelling a rozvoj pozitívnej
  zákazníckej skúsenosti\n 	Inovácia a kreativita podporená prácou s
  príbehom\n 	Ako a prečo rozvíjať túto schopnosť vo Vašej spoločn
 osti\n\n[/vc_column_text][ultimate_spacer height="10"][/vc_column][/vc_row
 ][vc_row][vc_column][vc_column_text]\nTémou vás prevedie:\n[/vc_column_t
 ext][/vc_column][/vc_row][vc_row][vc_column width="1/4"][vc_single_image i
 mage="13518"][/vc_column][vc_column width="3/4"][vc_column_text]\nVít Šp
 aňhel\, M. A.\nProfesionál v oblasti komunikácie\, lektor a konzultant\
 n\nŠtudoval komunikáciu\, PR a masmédia na La Salle University vo Phil
 adelphii.\n\nDnes sa ako expert venuje skupinám aj jednotlivcom v oblast
 i komunikácie\, prezentovania a vyjednávania.[/vc_column_text][/vc_colu
 mn][/vc_row][vc_row][vc_column][ultimate_spacer height="60"][vc_column_tex
 t]Prístupové údaje budú zaslané 2-3 dni pred termínom ZOOM SNACKu.\n
 \nZúčastniť sa ZOOM SNACKu je možné zadarmo až pre 2 osoby z jednej 
 spoločnosti.\n\nWorkshop je určený pre HR riaditeľov\, manažérov a 
 špecialistov vzdelávania\, HR business partnerov.\n\nNie je určený pre
  poradenské\, vzdelávacie spoločnosti a lektorov.[/vc_column_text][ult
 imate_spacer height="60"][/vc_column][/vc_row][vc_row][vc_column][vc_btn t
 itle="Chcem sa prihlásiť" color="info" align="center" link="url:https%3A
 %2F%2Fwww.imagelab.cz%2Fevent%2Fstorytelling-jako-future-skills%2F|target:
 _blank"][/vc_column][/vc_row]
ATTACH;FMTTYPE=image/jpeg:https://imagelab.sk/wp-content/uploads/2024/03/S
 torytelling-2048x1365-1.jpg
LOCATION:Image Lab SK\, s.r.o.\, Jarošova 2961/1\, Bratislava\, 831 03\, S
 lovensko
X-APPLE-STRUCTURED-LOCATION;VALUE=URI;X-ADDRESS=Jarošova 2961/1\, Bratisla
 va\, 831 03\, Slovensko;X-APPLE-RADIUS=100;X-TITLE=Image Lab SK\, s.r.o.:g
 eo:0,0
END:VEVENT
BEGIN:VEVENT
UID:94@imagelab.sk
DTSTART:20240412T100000Z
DTEND:20240412T113000Z
DTSTAMP:20240318T171206Z
URL:https://imagelab.sk/events/zoom-snack-assessment-development-center-2/
SUMMARY:ZOOM SNACK – Assessment/Development Center
DESCRIPTION:[vc_row][vc_column][vc_single_image image="13835" img_size="ful
 l" alignment="center"][ultimate_spacer height="30"][/vc_column][/vc_row][v
 c_row bg_type="bg_color" bg_color_value="#ffffff" text_color="#ffffff"][vc
 _column][ultimate_spacer height="30"][vc_column_text css=".vc_custom_17107
 81444597{background-color: #ffffff !important\;}"]\nKEDY: 12.04.2024 od 10
 :00 do 11:30​\nKDE: Platforma ZOOM\nÚČASŤ JE BEZPLATNÁ\n[/vc_column_
 text][/vc_column][/vc_row][vc_row][vc_column][ultimate_spacer height="30"]
 [vc_column_text]\nAssessment/Development Center\nAko overiť schopnosti a 
 zistiť potenciál ľudí\, s ktorými chceme pracovať.\n\nNa tomto onlin
 e stretnutí vám jeden z najväčších expertov na oblasť diagnostiky\,
  psychodiagnostiky a výberu ľudí predstaví súvislosti\, ako postaviť
  a pracovať s AC/DC.\n\n&nbsp\;\n\nProgram:\n\n 	Rady a odporúčania k p
 ríprave a realizácii AC/DC\n 	Prínosy\, riziká\, etické princípy AC/
 DC\n 	Komunikácia s účastníkmi AC/DC\n 	Hodnotiace kritériá a rola h
 odnotiteľov\n 	Metodika\, typy úloh\, časové harmonogramy\, materiály
  pre účastníkov\n 	Výstupné správy a ďalšie kroky\n\n[/vc_column_t
 ext][ultimate_spacer height="10"][/vc_column][/vc_row][vc_row][vc_column][
 vc_column_text]\nO svoje dlhoročné skúsenosti s prípravou a realizáci
 ou AC/DC sa s vami podelí:\n[/vc_column_text][/vc_column][/vc_row][vc_row
 ][vc_column width="1/4"][vc_single_image image="13861"][/vc_column][vc_col
 umn width="3/4"][vc_column_text]\nMgr. MUDr. Vratislav Kalenda\, MSc. in S
 HRM\nKonateľ Image Lab\, riaditeľ\, senior konzultant\, expert na psycho
 diagnostiku[/vc_column_text][/vc_column][/vc_row][vc_row][vc_column][ultim
 ate_spacer height="60"][vc_column_text]Prístupové údaje budú zaslané 
 2-3 dni pred termínom ZOOM SNACKu.\n\nZúčastniť sa ZOOM SNACKu je mož
 né zadarmo až pre 2 osoby z jednej spoločnosti.\n\nWorkshop je určený
  pre HR riaditeľov\, manažérov a špecialistov vzdelávania\, HR busine
 ss partnerov.\n\nNie je určený pre poradenské\, vzdelávacie spoločnos
 ti a lektorov.[/vc_column_text][ultimate_spacer height="60"][/vc_column][
 /vc_row][vc_row][vc_column][vc_btn title="Chcem sa prihlásiť" color="inf
 o" align="center" link="url:https%3A%2F%2Fwww.imagelab.cz%2Fhr-na-snidani%
 2F|target:_blank"][/vc_column][/vc_row]
ATTACH;FMTTYPE=image/jpeg:https://imagelab.sk/wp-content/uploads/2023/05/p
 exels-thirdman-5583249-773x520.jpg
LOCATION:Image Lab SK\, s.r.o.\, Jarošova 2961/1\, Bratislava\, 831 03\, S
 lovensko
X-APPLE-STRUCTURED-LOCATION;VALUE=URI;X-ADDRESS=Jarošova 2961/1\, Bratisla
 va\, 831 03\, Slovensko;X-APPLE-RADIUS=100;X-TITLE=Image Lab SK\, s.r.o.:g
 eo:0,0
END:VEVENT
BEGIN:VEVENT
UID:74@imagelab.sk
DTSTART:20240419T100000Z
DTEND:20240419T113000Z
DTSTAMP:20240326T092619Z
URL:https://imagelab.sk/events/zoom-snack-profesionalne-vedenie-vyberoveho
 -pohovoru/
SUMMARY:ZOOM SNACK – Profesionálne vedenie výberového pohovoru
DESCRIPTION:[vc_row][vc_column][vc_single_image image="13663" img_size="ful
 l" alignment="center"][ultimate_spacer height="30"][/vc_column][/vc_row][v
 c_row bg_type="bg_color" bg_color_value="#ffffff" text_color="#ffffff"][vc
 _column][ultimate_spacer height="30"][vc_column_text css=".vc_custom_17114
 45095470{background-color: #ffffff !important\;}"]\nKEDY: 19.04.2024 od 10
 :00 do 11:30​\nKDE: Platforma ZOOM\nÚČASŤ JE BEZPLATNÁ\n[/vc_column_
 text][/vc_column][/vc_row][vc_row][vc_column][ultimate_spacer height="30"]
 [vc_column_text]\nProfesionálne vedenie výberového pohovoru v kontexte
  doby\nZískať tých najlepších ľudí je jednou z kľúčových úloh
  HR a túžbou každého manažéra.\n\nV našom HR Zoom Snack získate z
 ákladné nástroje pre vedenie profesionálneho rozhovoru s kandidátom. 
 Cieľom takéhoto rozhovoru je jednak motivovať potenciálneho kolegu k p
 ráci práve u nás\, a súčasne efektívne zmapovať jeho schopnosti\, p
 redpoklady pre rast aj vzájomnú „chémiu“ tak\, aby nám to do budú
 cna dobre fungovalo.\n\nV rámci workshopu HR Zoom Snack sa pozrieme na pr
 aktické aspekty vedenia rozhovoru\, zistíme\, ako sa nenechať „opiť 
 oslnivým úsmevom“ a naučíme sa základné princípy toho\, ako sprá
 vne vybrať a súčasne od prvého okamžiku vytvárať spoločné budúce
  partnerstvo.\n\nČerešničkou tohto workshopu budú hlbšie súvislosti 
 z oblasti psychodiagnostiky a záťažových testov pre špecifické rol
 y.[/vc_column_text][ultimate_spacer height="10"][/vc_column][/vc_row][vc_r
 ow][vc_column][vc_column_text]\nTémou vás prevedie:\n[/vc_column_text][/
 vc_column][/vc_row][vc_row][vc_column width="1/4"][vc_single_image image="
 10412"][/vc_column][vc_column width="3/4"][vc_column_text]\nMUDr. Martin K
 alenda\, MBA\nKonateľ\, riaditeľ\, senior konzultant[/vc_column_text][/v
 c_column][/vc_row][vc_row][vc_column][ultimate_spacer height="60"][vc_colu
 mn_text]Prístupové údaje budú zaslané 2-3 dni pred termínom ZOOM SNA
 CKu.\n\nZúčastniť sa ZOOM SNACKu je možné zadarmo až pre 2 osoby z j
 ednej spoločnosti.\n\nWorkshop je určený pre HR riaditeľov\, manažér
 ov a špecialistov vzdelávania\, HR business partnerov.\n\nNie je určen
 ý pre poradenské\, vzdelávacie spoločnosti a lektorov.[/vc_column_tex
 t][ultimate_spacer height="60"][/vc_column][/vc_row][vc_row][vc_column][vc
 _btn title="Chcem sa prihlásiť" color="info" align="center" link="url:ht
 tps%3A%2F%2Fwww.imagelab.cz%2Fhr-na-snidani%2F|target:_blank"][/vc_column]
 [/vc_row]
ATTACH;FMTTYPE=image/jpeg:https://imagelab.sk/wp-content/uploads/2022/07/M
 oderni-psychodiagnostika-1024x683.jpg
LOCATION:Image Lab SK\, s.r.o.\, Jarošova 2961/1\, Bratislava\, 831 03\, S
 lovensko
X-APPLE-STRUCTURED-LOCATION;VALUE=URI;X-ADDRESS=Jarošova 2961/1\, Bratisla
 va\, 831 03\, Slovensko;X-APPLE-RADIUS=100;X-TITLE=Image Lab SK\, s.r.o.:g
 eo:0,0
END:VEVENT
END:VCALENDAR